BEGIN:VCALENDAR
VERSION:2.0
PRODID:-//ChamberMaster//Event Calendar 2.0//EN
METHOD:PUBLISH
X-PUBLISHED-TTL:P3D
REFRESH-INTERVAL:P3D
CALSCALE:GREGORIAN
BEGIN:VEVENT
DTSTART:20150506T210000Z
DTEND:20150506T230000Z
X-MICROSOFT-CDO-ALLDAYEVENT:FALSE
SUMMARY:May Business After 5
DESCRIPTION:Inside the Elgin Business Resource Centre there are many features\, services and organizations.  Come and meet them all as the EBRC hosts and sponsors our May Business After 5 as a big Open House.\nDetails on specific activities\, door prizes and more will be posted over the coming weeks.\nMark the date and plan to join us!
X-ALT-DESC;FMTTYPE=text/html:Inside the Elgin Business Resource Centre there are many features\, services and organizations. &nbsp\;Come and meet them all as the EBRC hosts and sponsors our May Business After 5 as a big Open House.<div><br></div><div>Details on specific activities\, door prizes and more will be posted over the coming weeks.</div><div><br></div><div>Mark the date and plan to join us!</div>
LOCATION:Elgin Business Resource Centre
UID:e.2614.949
SEQUENCE:3
DTSTAMP:20260420T124155Z
URL:http://www.www.stthomaschamber.on.ca/events/details/may-business-after-5-05-06-2015-949
END:VEVENT

END:VCALENDAR
