BEGIN:VCALENDAR
VERSION:2.0
PRODID:-//ChamberMaster//Event Calendar 2.0//EN
METHOD:PUBLISH
X-PUBLISHED-TTL:P3D
REFRESH-INTERVAL:P3D
CALSCALE:GREGORIAN
BEGIN:VEVENT
DTSTART:20140514T210000Z
DTEND:20140514T230000Z
X-MICROSOFT-CDO-ALLDAYEVENT:FALSE
SUMMARY:May Business After 5
DESCRIPTION:Metcalfe Gardens is celebrating 25 years!The staff and management of Metcalfe Gardens expresses their thanks and appreciation of support to the St. Thomas & District business community as the sponsor of our May edition of Business After 5.  Our location for this special quarter-century celebration will be the St. Thomas Seniors Recreation Centre on Chestnut Street.As always\, your favourite refreshments wll be served and you will be treated to some tasty treats and hors d'oeuvres.Admission is free and open to anyone from any business or organization that is a Member of the St. Thomas & District Chamber.  There's no better low-cost/no-cost opportunity to stay in-touch with your business neighbours and our community.Be Seen.  Be Heard.  BELONG.
X-ALT-DESC;FMTTYPE=text/html:<style type="text/css"></style><p><b>Metcalfe Gardens is celebrating 25 years!</b></p><p><b>The staff and management of Metcalfe Gardens expresses their thanks and appreciation of support to the St. Thomas &amp\; District business community as the sponsor of our May edition of Business After 5. &nbsp\;Our location for this special quarter-century celebration will be the St. Thomas Seniors Recreation Centre on Chestnut Street.</b></p><p><strong>As always\, your favourite refreshments wll be served and you will be treated to some tasty treats and hors d'oeuvres.</strong></p><p><strong>Admission is free and open to anyone from any business or organization that is a Member of the St. Thomas &amp\; District Chamber.&nbsp\; </strong></p><p><strong>There's no better low-cost/no-cost opportunity to stay in-touch with your business neighbours and our community.</strong></p><p><i><b>Be Seen.&nbsp\; Be Heard.&nbsp\; BELONG.</b></i></p>
LOCATION:St. Thomas Seniors' Centre
UID:e.2614.887
SEQUENCE:3
DTSTAMP:20260422T232002Z
URL:http://www.www.stthomaschamber.on.ca/events/details/may-business-after-5-05-14-2014-887
END:VEVENT

END:VCALENDAR
