BEGIN:VCALENDAR
VERSION:2.0
PRODID:-//ChamberMaster//Event Calendar 2.0//EN
METHOD:PUBLISH
X-PUBLISHED-TTL:P3D
REFRESH-INTERVAL:P3D
CALSCALE:GREGORIAN
BEGIN:VEVENT
DTSTART:20160518T210000Z
DTEND:20160518T230000Z
X-MICROSOFT-CDO-ALLDAYEVENT:FALSE
SUMMARY:May Business After 5
DESCRIPTION:Hard to believe but St. Thomas' myFM 94.1 turns 5 years old this month!!\n\nYou're invited to celebrate this big birthday... and you could get a present!\n\nWith plenty of door prizes\, food\, fun and refreshments\, myFM's Business After will be exceptional. St. Thomas Roadhouse will be on-site with tasty food choices\; the Columbus Club will organize bar and beverage services\; and wait 'til you see the prizes.\n\nHere's a partial list: A new Broil King Signet 320 BBQ from Dowler-Karn\; a Long Weekend Advertising Package worth over $1000\; Luggage from CAA Travel worth $400\; Great Lakes International Air Show tickets\; a special car care from Disbrowe Pontiac-Buick-GMC-Cadillac\; and gift cards from Briwood Farm Market and Tim Horton's.\n\nCome for the business connections and stay for the fun and prizes!\n\nWe're also offering tours of the myFM studios and opportunities to record Anniversary Greetings that will be broadcast after our event.
X-ALT-DESC;FMTTYPE=text/html:Hard to believe but St. Thomas&#39\; myFM 94.1 turns 5 years old this month!!<br />\nYou&#39\;re invited to celebrate this big birthday... and you could get a present!<br />\nWith plenty of door prizes\, food\, fun and refreshments\, myFM&#39\;s&nbsp\;Business After will be exceptional. St. Thomas Roadhouse will be on-site with tasty food choices\; the Columbus Club will organize bar and beverage services\; and wait &#39\;til you see the prizes.<br />\nHere&#39\;s a partial list: A new Broil King Signet 320 BBQ from Dowler-Karn\; a Long Weekend Advertising Package worth over $1000\; Luggage from CAA Travel worth $400\; Great Lakes International Air Show tickets\; a special car care from Disbrowe Pontiac-Buick-GMC-Cadillac\; and gift cards from Briwood&nbsp\;Farm Market and Tim Horton&#39\;s.<br />\nCome for the business connections and stay for the fun and prizes!<br />\nWe&#39\;re also offering tours of the myFM&nbsp\;studios and opportunities to record Anniversary Greetings that will be broadcast after our event.
LOCATION:Grand Central Place Lower Level Commercial Complex 300 Talbot Street St. Thomas\, ON N5P 4E2
UID:e.2614.975
SEQUENCE:3
DTSTAMP:20260419T162837Z
URL:http://www.www.stthomaschamber.on.ca/events/details/may-business-after-5-05-18-2016-975
END:VEVENT

END:VCALENDAR
