BEGIN:VCALENDAR
VERSION:2.0
PRODID:-//ChamberMaster//Event Calendar 2.0//EN
METHOD:PUBLISH
X-PUBLISHED-TTL:P3D
REFRESH-INTERVAL:P3D
CALSCALE:GREGORIAN
BEGIN:VEVENT
DTSTART:20130530T140000Z
DTEND:20130530T230000Z
X-MICROSOFT-CDO-ALLDAYEVENT:FALSE
SUMMARY:Members' Golf Day
DESCRIPTION:Thursday May 30\, 2013SORRY... It's too late.  Golf registration and sponsorships are now sold-out!The Chamber's 39th annual Members' Golf Day will be our biggest and best ever at St. Thomas Golf & Country Club in Union.Our Members and guests will enjoy a first-class day. 11:00 a.m. shotgun start\, followed by dinner\, prizes\, and a great silent auction with over $5\,500 worth of items and services going to the highest bidders.
X-ALT-DESC;FMTTYPE=text/html:<p><font size="5">Thursday May 30\, 2013</font></p><p><font color="#ff0000" size="3"><strong>SORRY... It's too late.</strong>&nbsp\; Golf registration and sponsorships are now sold-out!</font></p><p><font size="4">The Chamber's 39th annual Members' Golf Day will be our biggest and best ever at St. Thomas Golf &amp\; Country Club in Union.</font></p><p><font size="4">Our Members and guests will enjoy a first-class day. </font></p><p><font size="4">11:00 a.m. shotgun start\, followed by dinner\, prizes\, and a great silent auction with over $5\,500 worth of items and services going to the highest bidders.</font></p>
LOCATION:St.Thomas Golf & Country Club
UID:e.2614.881
SEQUENCE:3
DTSTAMP:20260423T161849Z
URL:http://www.www.stthomaschamber.on.ca/events/details/members-golf-day-05-30-2013-881
END:VEVENT

END:VCALENDAR
