BEGIN:VCALENDAR
VERSION:2.0
PRODID:-//ChamberMaster//Event Calendar 2.0//EN
METHOD:PUBLISH
X-PUBLISHED-TTL:P3D
REFRESH-INTERVAL:P3D
CALSCALE:GREGORIAN
BEGIN:VEVENT
DTSTART:20160526T140000Z
DTEND:20160527T000000Z
X-MICROSOFT-CDO-ALLDAYEVENT:FALSE
SUMMARY:Members Golf Day 2016
DESCRIPTION:Our 42nd annual Members Golf Day is coming. Once per year\, our Members and guests have an exclusive opportunity to play a course that is one of the finest in Canada. St. Thomas Golf & Country is ranked among the top 40 courses in Canada and our annual Members Golf Day is one of the longest-running golf tournaments in our region.\n\nThis is a fun-filled day that includes 18 holes\, cart\, lunch\, dinner and more. Capacity is limited to 120 players to ensure a reasonable pace for everyone.
X-ALT-DESC;FMTTYPE=text/html:Our 42nd annual Members Golf Day is coming. Once per year\, our Members and guests have an exclusive opportunity to play a course that is one of the finest in Canada. St. Thomas Golf &amp\; Country is ranked among the top 40 courses in Canada and our annual Members Golf Day is one of the longest-running golf tournaments in our region.<br />\nThis is a fun-filled day that includes 18 holes\, cart\, lunch\, dinner and more. Capacity is limited to 120 players to ensure a reasonable pace for everyone.
LOCATION:St. Thomas Golf & Country Club\, Union
UID:e.2614.971
SEQUENCE:3
DTSTAMP:20260419T162724Z
URL:http://www.www.stthomaschamber.on.ca/events/details/members-golf-day-2016-05-26-2016-971
END:VEVENT

END:VCALENDAR
