BEGIN:VCALENDAR
VERSION:2.0
PRODID:-//ChamberMaster//Event Calendar 2.0//EN
METHOD:PUBLISH
X-PUBLISHED-TTL:P3D
REFRESH-INTERVAL:P3D
CALSCALE:GREGORIAN
BEGIN:VEVENT
DTSTART:20141125T133000Z
DTEND:20141203T170000Z
X-MICROSOFT-CDO-ALLDAYEVENT:FALSE
SUMMARY:Mental Health First Aid Course #1 (runs to December 3)
DESCRIPTION:What is "Mental Health First Aid"? Our MHFA program is a 12-hour training course that teaches participants how to help someone who is showing signs of a mental health problem or is experiencing a mental health crisis. MFHA Canada is an evidence-based program of the Mental Health Commission of Canada.\nWho should attend? Our focus is primarily to small and medium-size employers\, health service providers\, emergency workers\, HR professionals and teachers but the program is open for participation by anyone in our community.  \nWhen and Where... and How Much? Our first community offering of this program is for a maximum of 25 people.  Delivery dates are Tuesday and Wednesday mornings\, November 25 & 26 and December 2 & 3\, 8:30 a.m. to 12 noon.  Our program leaders will be certified trainers from the Canadian Mental Health Association. $130 per person\, includes texts and materials. Our sessions will all be held in the main boardroom at the Elgin Business Resource Centre on South Edgeware Road.\nWhat's covered? This is a basic level interactive course that teaches practical skills using a model that is easy to remember and apply in real life settings. It is appropriate for any adult with limited or no knowledge of mental health concerns.\nOne of our SafeCommunities volunteers\, Pam Buys\, has taken the course and is assisting us with registrations. Pam is the Coordinator of Client Services & Community Support Services with VON Middlesex-Elgin. She will answer questions and welcomes your calls or emails.  Reach Pam by phone during office hours at 519-637-6408\,Extension 223 or email: pam.buys@von.ca
X-ALT-DESC;FMTTYPE=text/html:<p><font size="2"><i><span style="font-family: Arial\, sans-serif\;"></span></i></font></p><i><b>What is "Mental Health First Aid"?</b></i> Our MHFA program is a 12-hour training course that teaches participants how to help someone who is showing signs of a mental health problem or is experiencing a mental health crisis. MFHA Canada is an evidence-based program of the Mental Health Commission of Canada.<div><span><br></span></div><div><i><b>Who should attend? </b></i>Our focus is primarily to small and medium-size employers\, health service providers\, emergency workers\, HR professionals and teachers but the program is open for participation by anyone in our community.&nbsp\;&nbsp\;</div><div><span><br></span></div><div><i><b>When and Where... and How Much?&nbsp\;</b></i>Our first community offering of this program is for a maximum of 25 people.&nbsp\; Delivery dates are Tuesday and Wednesday mornings\, November 25 &amp\; 26 and December 2 &amp\; 3\, 8:30 a.m. to 12 noon.&nbsp\; Our program leaders will be certified trainers from the Canadian Mental Health Association. $130 per person\, includes texts and materials. Our sessions will all be held in the main boardroom at the Elgin Business Resource Centre on South Edgeware Road.</div><div><span><br></span></div><div><i><b>What's covered?</b></i>&nbsp\;This is a basic level interactive course that teaches practical skills using a model that is easy to remember and apply in real life settings. It is appropriate for any adult with limited or no knowledge of mental health concerns.</div><div><span><br></span></div><div><span>One of our SafeCommunities volunteers\, Pam Buys\, has taken the course and is assisting us with registrations. Pam is the Coordinator of Client Services &amp\; Community Support Services with VON Middlesex-Elgin.&nbsp\;She will answer questions and welcomes your calls or emails.&nbsp\; Reach Pam by phone during office hours at 519-637-6408\,Extension 223 or email: pam.buys@von.ca</span><p><span style="font-size: small\; font-family: Calibri\, sans-serif\;"><a href="mailto:pam.buys@von.ca" target="_blank"><span style="font-family: Arial\, sans-serif\; color: windowtext\; text-decoration: none\;"></span></a></span></p></div>
LOCATION:Elgin Business Resource Centre
UID:e.2614.938
SEQUENCE:3
DTSTAMP:20260422T135528Z
URL:http://www.www.stthomaschamber.on.ca/events/details/mental-health-first-aid-course-1-runs-to-december-3-11-25-2014-938
END:VEVENT

END:VCALENDAR
