BEGIN:VCALENDAR
VERSION:2.0
PRODID:-//ChamberMaster//Event Calendar 2.0//EN
METHOD:PUBLISH
X-PUBLISHED-TTL:P3D
REFRESH-INTERVAL:P3D
CALSCALE:GREGORIAN
BEGIN:VEVENT
DTSTART:20150409T151500Z
DTEND:20150409T173000Z
X-MICROSOFT-CDO-ALLDAYEVENT:FALSE
SUMMARY:MP & MPP Luncheon
DESCRIPTION:It's an annual tradition for the St. Thomas & District Chamber to welcome our Elgin-Middlesex-London federal and provincial representatives to the stage. For 2015\, MP Joe Preston makes his last appearance with us before his planned retirement later this year and joins provincial MPP Jeff Yurek for remarks and an open question-and-answer session.\nDoors open at 11:15 a.m.  Buffet luncheon service is available 11:30 a..m. to 12:15 p.m.  Our program begins at 12:15 with remarks from our speakers\, followed by the q&a session. The event will end by 1:30 p.m.\n\nTickets are now on sale.  Advance sale only\, with preferred/reserved seating on all single orders of four tickets or more.  $32. per person includes a complete hot & cold buffet from Catering by James Meadows.\nPlease plan to join us.  Members can order tickets by telephone or email. The Chamber accepts VISA\, MasterCard\, American Express and debit cards for payment.
X-ALT-DESC;FMTTYPE=text/html:It's an annual tradition for the St. Thomas &amp\; District Chamber to welcome our Elgin-Middlesex-London federal and provincial representatives to the stage. For 2015\, MP Joe Preston makes his last appearance with us before his planned retirement later this year and joins provincial MPP Jeff Yurek for remarks and an open question-and-answer session.<div><br></div><div>Doors open at 11:15 a.m. &nbsp\;Buffet luncheon service is available 11:30 a..m. to 12:15 p.m. &nbsp\;Our program begins at 12:15 with remarks from our speakers\, followed by the q&amp\;a session. The event will end by 1:30 p.m.<br><div><br></div><div>Tickets are now on sale. &nbsp\;Advance sale only\, with preferred/reserved seating on all single orders of four tickets or more. &nbsp\;$32. per person includes a complete hot &amp\; cold buffet from Catering by James Meadows.</div><div><br></div><div>Please plan to join us. &nbsp\;Members can order tickets by telephone or email. The Chamber accepts VISA\, MasterCard\, American Express and debit cards for payment.</div></div>
LOCATION:St. Anne's Centre
UID:e.2614.945
SEQUENCE:3
DTSTAMP:20260420T142831Z
URL:http://www.www.stthomaschamber.on.ca/events/details/mp-mpp-luncheon-04-09-2015-945
END:VEVENT

END:VCALENDAR
