BEGIN:VCALENDAR
VERSION:2.0
PRODID:-//ChamberMaster//Event Calendar 2.0//EN
METHOD:PUBLISH
X-PUBLISHED-TTL:P3D
REFRESH-INTERVAL:P3D
CALSCALE:GREGORIAN
BEGIN:VEVENT
DTSTART:20140423T153000Z
DTEND:20140423T173000Z
X-MICROSOFT-CDO-ALLDAYEVENT:FALSE
SUMMARY:MP & MPP Luncheon
DESCRIPTION:The St. Thomas & District Chamber is pleased to host our Elgin-Middlesex-London Member of Parliament\, Joe Preston\, and Member of Provincial Parliament\, Jeff Yurek\, in our annual luncheon featuring presentations by our elected representatives and an open question-and-answer session with the pair.\nSORRY... Ticket sales for this event are now closed.Tickets are $30 per person\, plus tax\, and on sale now by advance order only through the Chamber office.
X-ALT-DESC;FMTTYPE=text/html:The St. Thomas &amp\; District Chamber is pleased to host our Elgin-Middlesex-London Member of Parliament\, Joe Preston\, and Member of Provincial Parliament\, Jeff Yurek\, in our annual luncheon featuring presentations by our elected representatives and an open question-and-answer session with the pair.<div><br></div><div><font color="#ff0030">SORRY... Ticket sales for this event are now closed.</font></div><div>Tickets are $30 per person\, plus tax\, and on sale now by advance order only through the Chamber office.</div><div><br></div>
LOCATION:St. Anne's Centre
UID:e.2614.925
SEQUENCE:3
DTSTAMP:20260423T004922Z
URL:http://www.www.stthomaschamber.on.ca/events/details/mp-mpp-luncheon-04-23-2014-925
END:VEVENT

END:VCALENDAR
