BEGIN:VCALENDAR
VERSION:2.0
PRODID:-//ChamberMaster//Event Calendar 2.0//EN
METHOD:PUBLISH
X-PUBLISHED-TTL:P3D
REFRESH-INTERVAL:P3D
CALSCALE:GREGORIAN
BEGIN:VEVENT
DTSTART:20131106T220000Z
DTEND:20131107T000000Z
X-MICROSOFT-CDO-ALLDAYEVENT:FALSE
SUMMARY:November Business After 5
DESCRIPTION:November's Business After 5 will recognize 50 Years of Excellence!  Junior Achievement of London & District began serving our region - including St. Thomas and Elgin County - in 1963!  Thanks to the generous support and sponsorship of Dowler-Karn Limited\, we're marking JA's fiftieth anniversary with a celebration event at the St. Thomas Roadhouse.Great door prizes\, tasty Roadhouse food\, your favourite refreshments\, and a great way to acknowledge 50 years of JA's successes in building business skills and leadership.\nAs always\, admission to Business After 5 is free and open to anyone from any business or organization that is a Member of the St. Thomas & District Chamber of Commerce.
X-ALT-DESC;FMTTYPE=text/html:November's Business After 5 will recognize 50 Years of Excellence! &nbsp\;Junior Achievement of London &amp\; District began serving our region - including St. Thomas and Elgin County - in 1963! &nbsp\;Thanks to the generous support and sponsorship of Dowler-Karn Limited\, we're marking JA's fiftieth anniversary with a celebration event at the St. Thomas Roadhouse.<div>Great door prizes\, tasty Roadhouse food\, your favourite refreshments\, and a great way to acknowledge 50 years of JA's successes in building business skills and leadership.</div><div><br></div><div>As always\, admission to Business After 5 is free and open to anyone from any business or organization that is a Member of the St. Thomas &amp\; District Chamber of Commerce.</div>
LOCATION:St. Thomas Roadhouse
UID:e.2614.906
SEQUENCE:3
DTSTAMP:20260423T080857Z
URL:http://www.www.stthomaschamber.on.ca/events/details/november-business-after-5-11-06-2013-906
END:VEVENT

END:VCALENDAR
