BEGIN:VCALENDAR
VERSION:2.0
PRODID:-//ChamberMaster//Event Calendar 2.0//EN
METHOD:PUBLISH
X-PUBLISHED-TTL:P3D
REFRESH-INTERVAL:P3D
CALSCALE:GREGORIAN
BEGIN:VEVENT
DTSTART:20141112T220000Z
DTEND:20141113T000000Z
X-MICROSOFT-CDO-ALLDAYEVENT:FALSE
SUMMARY:November Business After 5
DESCRIPTION:The warmth and glow of a festive "Home for the Holidays" event will be the spirit behind our November edition of Business After as the management and staff at Jennings Furniture & Design host and sponsor our event.\nMark the date now. Food & fun with a festive flair is guaranteed... and just 10 days before Santa's annual visit in the St. Thomas Santa Claus Parade.\nSpecial Note:  This will be a 'furniture friendly' event with clear beverages only!  Ginger ale\, white wine\, soda and sparkling water\, etc.  Sorry\, no such things as red wines or dark colas!
X-ALT-DESC;FMTTYPE=text/html:The warmth and glow of a festive "Home for the Holidays" event will be the spirit behind our November edition of Business After as the management and staff at Jennings Furniture &amp\; Design host and sponsor our event.<div><br></div><div>Mark the date now. Food &amp\; fun with a festive flair is guaranteed... and just 10 days before Santa's annual visit in the St. Thomas Santa Claus Parade.</div><div><br></div><div>Special Note: &nbsp\;This will be a 'furniture friendly' event with clear beverages only! &nbsp\;Ginger ale\, white wine\, soda and sparkling water\, etc. &nbsp\;Sorry\, no such things as red wines or dark colas!</div>
LOCATION:Jennings Furniture & Design
UID:e.2614.933
SEQUENCE:3
DTSTAMP:20260422T152633Z
URL:http://www.www.stthomaschamber.on.ca/events/details/november-business-after-5-11-12-2014-933
END:VEVENT

END:VCALENDAR
