BEGIN:VCALENDAR
VERSION:2.0
PRODID:-//ChamberMaster//Event Calendar 2.0//EN
METHOD:PUBLISH
X-PUBLISHED-TTL:P3D
REFRESH-INTERVAL:P3D
CALSCALE:GREGORIAN
BEGIN:VEVENT
DTSTART:20121114T220000Z
DTEND:20121115T000000Z
X-MICROSOFT-CDO-ALLDAYEVENT:FALSE
SUMMARY:November Business After 5
DESCRIPTION:Jennings Furniture & Design sponsors the Chamber' s November edition of Business After 5. \nAttend and you could win our fantastic main door prize... a $1\,000 Jennings shopping spree!!! (Full details at our event\, some conditions apply.) As always\, attendance is free & open to anyone and everyone from all businesses and organizations that are Chamber Members\, plus our invited guests and prospective Members. \n\nPlenty of free parking in the municipal lot behind the store.  Entry for this event via Jennings front door only please.  **PLEASE NOTE - This event will feature "furniture friendly" refreshments only... all things clear and light!  Sorry\, no colas\, red wines\, etc.
X-ALT-DESC;FMTTYPE=text/html:<STYLE type=text/css></STYLE>\n\n<P>Jennings Furniture &amp\; Design sponsors&nbsp\;the Chamber' s November edition of Business After 5.&nbsp\;</P>\n<P>Attend and you could win&nbsp\;our fantastic main door prize... a $1\,000 Jennings shopping spree!!! (Full details at our event\, some conditions apply.)&nbsp\;</P>As always\, attendance is free &amp\; open to anyone and everyone from all businesses and organizations that are Chamber Members\, plus our invited guests and prospective Members. <BR><BR>Plenty of free parking in the municipal lot behind the store.&nbsp\; Entry for this event via Jennings front door only please.&nbsp\; **PLEASE NOTE - This event will feature "furniture friendly" refreshments only... all things clear and light!&nbsp\; Sorry\, no colas\, red wines\, etc.
LOCATION:Jennings Furniture & Design
UID:e.2614.872
SEQUENCE:3
DTSTAMP:20260424T012823Z
URL:http://www.www.stthomaschamber.on.ca/events/details/november-business-after-5-11-14-2012-872
END:VEVENT

END:VCALENDAR
