BEGIN:VCALENDAR
VERSION:2.0
PRODID:-//ChamberMaster//Event Calendar 2.0//EN
METHOD:PUBLISH
X-PUBLISHED-TTL:P3D
REFRESH-INTERVAL:P3D
CALSCALE:GREGORIAN
BEGIN:VEVENT
DTSTART:20151112T220000Z
DTEND:20151113T000000Z
X-MICROSOFT-CDO-ALLDAYEVENT:FALSE
SUMMARY:November Business After 5 - A special Great Lakes International Air Show Preview
DESCRIPTION:Don't miss this one!The Great Lakes International Air Show (GLIAS) returns to St. Thomas Municipal Airport next June (exact dates to be announced). Plans and preparations are well underway and the GLIAS organizers are teaming with Railway City Brewing Company to sponsor our November Business After 5 event to connect with local businesses and organizations. Sponsorship? Participation as a vendor or exhibitor? Service supplier? There are dozens of ways the GLIAS connects to our market and attracts thousands of people. Attend Business After 5 and you'll find out more.Over $2\,000 in door prize giveways including VIP Flight Deck Chalet passes\, a flight in vintage aircraft\, Railway City Brewery items\, and Air Show admission passes.\nPLEASE NOTE THE DATE:  Thursday November 12. Gates open at 5:00 p.m. in the large main hangar at the airport.\nAs always\, admission to Business After 5 is free and open to anyone from any business or organization that is a Member of the St. Thomas & District Chamber of Commerce.\nComplimentary hors d'oeuvres\, your favourite refreshments\, and a fantastic opportunity to see and hear a lot more about community activity.
X-ALT-DESC;FMTTYPE=text/html:Don't miss this one!<div>The Great Lakes International Air Show (GLIAS) returns to St. Thomas Municipal Airport next June (exact dates to be announced). Plans and preparations are well underway and the GLIAS organizers are teaming with Railway City Brewing Company to sponsor our November Business After 5 event to connect with local businesses and organizations. Sponsorship? Participation as a vendor or exhibitor? Service supplier? There are dozens of ways the GLIAS connects to our market and attracts thousands of people. Attend Business After 5 and you'll find out more.</div><div>Over $2\,000 in door prize giveways including VIP Flight Deck Chalet passes\, a flight in vintage aircraft\, Railway City Brewery items\, and Air Show admission passes.</div><div><b><br></b></div><div><i><b>PLEASE NOTE THE DATE:</b> </i>&nbsp\;Thursday November 12. Gates open at 5:00 p.m. in the large main hangar at the airport.</div><div><br></div><div>As always\, admission to Business After 5 is free and open to anyone from any business or organization that is a Member of the St. Thomas &amp\; District Chamber of Commerce.</div><div><br></div><div>Complimentary hors d'oeuvres\, your favourite refreshments\, and a fantastic opportunity to see and hear a lot more about community activity.</div>
LOCATION:St. Thomas Municipal Airport
UID:e.2614.959
SEQUENCE:3
DTSTAMP:20260420T023740Z
URL:http://www.www.stthomaschamber.on.ca/events/details/november-business-after-5-a-special-great-lakes-international-air-show-preview-11-12-2015-959
END:VEVENT

END:VCALENDAR
