BEGIN:VCALENDAR
VERSION:2.0
PRODID:-//ChamberMaster//Event Calendar 2.0//EN
METHOD:PUBLISH
X-PUBLISHED-TTL:P3D
REFRESH-INTERVAL:P3D
CALSCALE:GREGORIAN
BEGIN:VEVENT
DTSTART:20131120T150000Z
DTEND:20131120T160000Z
X-MICROSOFT-CDO-ALLDAYEVENT:FALSE
SUMMARY:November Webinar - Google+ For Your Small Business
DESCRIPTION:Our monthly webinar series on social media continues this month with a 60-minute session on Google+\nMaking any small or mid-size business thrive in today's economy means using modern marketing methods including social media.  Expert trainer/facilitator/author Frank J. Kenny leads this exclusive session for local businesses in St. Thomas & District\, sponsored by the St. Thomas & District Chamber of Commerce.\nRegistration is $79. Anyone from a business or organization that is registered as a Member of the Chamber saves 50% - your price is just $39. Use the code "THOMAS" to register at the Member price if you qualify.\nAll payments and registration will be handled at this link. Click on it now for more information or to book your seat in our session.
X-ALT-DESC;FMTTYPE=text/html:Our monthly webinar series on social media continues this month with a 60-minute session on Google+<div><br></div><div>Making any small or mid-size business thrive in today's economy means using modern marketing methods including social media. &nbsp\;Expert trainer/facilitator/author Frank J. Kenny leads this exclusive session for local businesses in St. Thomas &amp\; District\, sponsored by the St. Thomas &amp\; District Chamber of Commerce.</div><div><br></div><div>Registration is $79. Anyone from a business or organization that is registered as a Member of the Chamber saves 50% - your price is just $39. Use the code "THOMAS" to register at the Member price if you qualify.</div><div><br></div><div>All payments and registration will be handled at <a href="http://frankjkenny.enterthemeeting.com/m/E7ZRVG4W" target="_blank">this link</a>. Click on it now for more information or to book your seat in our session.</div>
LOCATION:
UID:e.2614.905
SEQUENCE:3
DTSTAMP:20260423T081044Z
URL:http://www.www.stthomaschamber.on.ca/events/details/november-webinar-google-for-your-small-business-11-20-2013-905
END:VEVENT

END:VCALENDAR
