BEGIN:VCALENDAR
VERSION:2.0
PRODID:-//ChamberMaster//Event Calendar 2.0//EN
METHOD:PUBLISH
X-PUBLISHED-TTL:P3D
REFRESH-INTERVAL:P3D
CALSCALE:GREGORIAN
BEGIN:VEVENT
DTSTART:20131023T200000Z
DTEND:20131023T230000Z
X-MICROSOFT-CDO-ALLDAYEVENT:FALSE
SUMMARY:October Business After 5 - 13th Annual Business Sample Show
DESCRIPTION:Our annual Small Business Sample Show is the Chamber's biggest event during Small Business Week\, and doubles as this month's Business After 5.   It's a mini-tabletop trade show with great door prizes\, plenty of samples\, displays and exhibits.  \nAdmission is free and open to everyone. It's part of our local activities marking National Small Business Week.  Over 50 exhibits by St. Thomas & District retailers\, restaurants and services\, plenty of free samples and giveaways\, great door prize draws and much more. Sponsored by TD Canada Trust.
X-ALT-DESC;FMTTYPE=text/html:<style type="text/css"></style><style type="text/css"></style>\n<p></p>\n<p> Our annual Small Business Sample Show is the Chamber's biggest event during Small Business Week\, and doubles as this month's<i style="mso-bidi-font-style: normal\;"> Business After 5.</i> &nbsp\; It's a mini-tabletop trade show with great door prizes\, plenty of samples\, displays and exhibits.&nbsp\; <br></p>Admission is free and open to everyone. It's part of our local activities marking National Small Business Week.&nbsp\; Over 50 exhibits by St. Thomas &amp\; District retailers\, restaurants&nbsp\;and services\, plenty of free samples and giveaways\, great door prize draws and much more. Sponsored by TD Canada Trust. <br><br>
LOCATION:St. Anne's Centre
UID:e.2614.901
SEQUENCE:3
DTSTAMP:20260423T093430Z
URL:http://www.www.stthomaschamber.on.ca/events/details/october-business-after-5-13th-annual-business-sample-show-10-23-2013-901
END:VEVENT

END:VCALENDAR
