BEGIN:VCALENDAR
VERSION:2.0
PRODID:-//ChamberMaster//Event Calendar 2.0//EN
METHOD:PUBLISH
X-PUBLISHED-TTL:P3D
REFRESH-INTERVAL:P3D
CALSCALE:GREGORIAN
BEGIN:VEVENT
DTSTART:20151021T200000Z
DTEND:20151021T230000Z
X-MICROSOFT-CDO-ALLDAYEVENT:FALSE
SUMMARY:October Business After 5 - 15th Annual Business Sample Show
DESCRIPTION:The 3rd week of October is always special for small business.  It's National Small Business Week and with it comes a lot of activity.The highlight of the Chamber's work that week will be the production and delivery of our 15th annual Business Sample Show - a mini trade-show with space for up to 65 exhibitors at St. Anne's Centre in St. Thomas.If you're interested in being on display\, the Chamber is booking exhibitor spaces now.For more exhibitor info and prices: click here Our food exhibitors and samplers for 2015 are confirmed. One in each corner of the hall with free nibbles for all attending! Joining us this year: Tim Hortons\; Legends Tavern\; The Bistro and Boston Pizza.For any additional details or questions\, please call us and speak with any staff member at 519-631-1981.
X-ALT-DESC;FMTTYPE=text/html:The 3rd week of October is always special for small business. &nbsp\;It's National Small Business Week and with it comes a lot of activity.<div>The highlight of the Chamber's work that week will be the production and delivery of our 15th annual Business Sample Show - a mini trade-show with space for up to 65 exhibitors at St. Anne's Centre in St. Thomas.</div><div>If you're interested in being on display\, the Chamber is booking exhibitor spaces now.</div><div>For more exhibitor info and prices: <a href="http://stthomaschamber.on.ca/doc/Exhibitor-Invitation.pdf" target="_blank"><b>click here&nbsp\;</b></a></div><div>Our food exhibitors and samplers for 2015 are confirmed. One in each corner of the hall with free nibbles for all attending! Joining us this year: Tim Hortons\; Legends Tavern\; The Bistro and Boston Pizza.</div><div>For any additional details or questions\, please call us and speak with any staff member at 519-631-1981.</div>
LOCATION:St. Anne's Centre
UID:e.2614.956
SEQUENCE:3
DTSTAMP:20260420T041813Z
URL:http://www.www.stthomaschamber.on.ca/events/details/october-business-after-5-15th-annual-business-sample-show-10-21-2015-956
END:VEVENT

END:VCALENDAR
