BEGIN:VCALENDAR
VERSION:2.0
PRODID:-//ChamberMaster//Event Calendar 2.0//EN
METHOD:PUBLISH
X-PUBLISHED-TTL:P3D
REFRESH-INTERVAL:P3D
CALSCALE:GREGORIAN
BEGIN:VEVENT
DTSTART:20131016T140000Z
DTEND:20131016T150000Z
X-MICROSOFT-CDO-ALLDAYEVENT:FALSE
SUMMARY:October Webinar - YouTube for Your Small Business
DESCRIPTION:Success in small business today means using modern marketing methods\, including social media.\nAttend this Chamber-sponsored webinar and get your business up to speed fast on YouTube.\nThis 60-minute session will be led by expert trainer\, author and facilitator Frank J. Kenny and is exclusively for people and businesses in our local market. Anyone can register\, but advance registration and payment are a must. $79 per person. Chamber Members (anyone from any business or organization that is a Member of the St. Thomas & District Chamber) save 50% and pay just $39.  Use the discount code "THOMAS" when you register.All registrations and payments for this event via this link:  http\;//frankjkenny.enterthemeeting.com/m/656K6DM3\nFrank J. Kenny is an international speaker and leading authority on social media and technology for small and medium-size businesses.
X-ALT-DESC;FMTTYPE=text/html:Success in small business today means using modern marketing methods\, including social media.<div><br></div><div>Attend this Chamber-sponsored webinar and get your business up to speed fast on YouTube.</div><div><br></div><div>This 60-minute session will be led by expert trainer\, author and facilitator Frank J. Kenny and is exclusively for people and businesses in our local market. Anyone can register\, but advance registration and payment are a must. $79 per person. Chamber Members (anyone from any business or organization that is a Member of the St. Thomas &amp\; District Chamber) save 50% and pay just $39. &nbsp\;Use the discount code "THOMAS" when you register.</div><div>All registrations and payments for this event via this link: &nbsp\;<a href="http://frankjkenny.enterthemeeting.com/m/656K6DM3" target="_blank">http\;//frankjkenny.enterthemeeting.com/m/656K6DM3</a></div><div><br></div><div>Frank J. Kenny is an international speaker and leading authority on social media and technology for small and medium-size businesses.</div>
LOCATION:
UID:e.2614.904
SEQUENCE:3
DTSTAMP:20260423T093230Z
URL:http://www.www.stthomaschamber.on.ca/events/details/october-webinar-youtube-for-your-small-business-10-16-2013-904
END:VEVENT

END:VCALENDAR
