BEGIN:VCALENDAR
VERSION:2.0
PRODID:-//ChamberMaster//Event Calendar 2.0//EN
METHOD:PUBLISH
X-PUBLISHED-TTL:P3D
REFRESH-INTERVAL:P3D
CALSCALE:GREGORIAN
BEGIN:VEVENT
DTSTART:20120327T153000Z
DTEND:20120327T173000Z
X-MICROSOFT-CDO-ALLDAYEVENT:FALSE
SUMMARY:Outlook 2012 - Economic Forecast
DESCRIPTION:
X-ALT-DESC;FMTTYPE=text/html:
LOCATION:St. Anne's Centre
UID:e.2614.862
SEQUENCE:3
DTSTAMP:20260424T155318Z
URL:http://www.www.stthomaschamber.on.ca/events/details/outlook-2012-economic-forecast-03-27-2012-862
END:VEVENT

END:VCALENDAR
