BEGIN:VCALENDAR
VERSION:2.0
PRODID:-//ChamberMaster//Event Calendar 2.0//EN
METHOD:PUBLISH
X-PUBLISHED-TTL:P3D
REFRESH-INTERVAL:P3D
CALSCALE:GREGORIAN
BEGIN:VEVENT
DTSTART:20120327T153000Z
DTEND:20120327T153000Z
X-MICROSOFT-CDO-ALLDAYEVENT:FALSE
SUMMARY:Outlook 2012 - Economic Forecast(Group)
DESCRIPTION:
X-ALT-DESC;FMTTYPE=text/html:
LOCATION:
UID:e.2614.57
SEQUENCE:3
DTSTAMP:20260424T155316Z
URL:http://www.www.stthomaschamber.on.ca/events/details/outlook-2012-economic-forecast-group-03-27-2012-57
END:VEVENT

END:VCALENDAR
