BEGIN:VCALENDAR
VERSION:2.0
PRODID:-//ChamberMaster//Event Calendar 2.0//EN
METHOD:PUBLISH
X-PUBLISHED-TTL:P3D
REFRESH-INTERVAL:P3D
CALSCALE:GREGORIAN
BEGIN:VEVENT
DTSTART:20140325T153000Z
DTEND:20140325T173000Z
X-MICROSOFT-CDO-ALLDAYEVENT:FALSE
SUMMARY:Outlook 2014 - Annual Economic Forecast Luncheon
DESCRIPTION:BMO Financial Group sponsors this popular annual economic forecast event.  Our keynote speaker this year will be Sal Guatieri\, Vice President and Senior Economist.  With BMO Financial Group since 1994\, his main responsibilities include analyzing and forecasting the U.S. and Canadian economies\, interest rates and exchange rates.  Mr. Guatieri is a regular commentator on economic and financial trends to the media.  Prior to joining BMO\, he worked at the Bank of Canada in their research department.\nAs always\, our Outlook luncheon will include custom data that reflects local economic activity and trends across St. Thomas\, Elgin County and the entire London Census Metro region.\nTickets are $30 per person\, plus tax and available by advance sale only through the Chamber office.
X-ALT-DESC;FMTTYPE=text/html:BMO Financial Group sponsors this popular annual economic forecast event. &nbsp\;Our keynote speaker this year will be Sal Guatieri\, Vice President and Senior Economist. &nbsp\;With BMO Financial Group since 1994\, his main responsibilities include analyzing and forecasting the U.S. and Canadian economies\, interest rates and exchange rates. &nbsp\;Mr. Guatieri is a regular commentator on economic and financial trends to the media. &nbsp\;Prior to joining BMO\, he worked at the Bank of Canada in their research department.<div><br></div><div>As always\, our Outlook luncheon will include custom data that reflects local economic activity and trends across St. Thomas\, Elgin County and the entire London Census Metro region.</div><div><br></div><div>Tickets are $30 per person\, plus tax and available by advance sale only through the Chamber office.</div>
LOCATION:St. Anne's Centre
UID:e.2614.918
SEQUENCE:3
DTSTAMP:20260423T020811Z
URL:http://www.www.stthomaschamber.on.ca/events/details/outlook-2014-annual-economic-forecast-luncheon-03-25-2014-918
END:VEVENT

END:VCALENDAR
