BEGIN:VCALENDAR
VERSION:2.0
PRODID:-//ChamberMaster//Event Calendar 2.0//EN
METHOD:PUBLISH
X-PUBLISHED-TTL:P3D
REFRESH-INTERVAL:P3D
CALSCALE:GREGORIAN
BEGIN:VEVENT
DTSTART:20150825T113000Z
DTEND:20150825T130000Z
X-MICROSOFT-CDO-ALLDAYEVENT:FALSE
SUMMARY:POSTPONED: Meeting The Leaders - Patrick Brown\, Progressive Conservative Party of Ontario
DESCRIPTION:UPDATE: EVENT POSTPONED UNTIL FALL.  Due to the call of a provincial by-election\, we have been advised at August 4 that we cannot proceed as planned.  Re-scheduling details will be posted here as soon as details can be confirmed.\n\nThe Chamber welcomes Patrick Brown\, Leader of the Progressive Conservative Party of Ontario\, to address our Members in a breakfast meeting on August 25.\nMr. Brown was elected as Leader of the Ontario Progressive Conservatives on May 9 this year. His visit will be the first time he has addressed the Members of the St. Thomas & District Chamber.\nTickets are available now\, advance sale only\, from the Chamber office.\nGeneral Admission:  $25 plus HST per personChamber Members:  $20 plus HST per person\nThis event features a hot breakfast buffet\, remarks by our guest\, and an opportunity for questions from the floor.
X-ALT-DESC;FMTTYPE=text/html:<div><font color="#ff0000"><b>UPDATE: EVENT POSTPONED UNTIL FALL.</b> &nbsp\;Due to the call of a provincial by-election\, we have been advised at August 4 that we cannot proceed as planned. &nbsp\;Re-scheduling details will be posted here as soon as details can be confirmed.</font></div><div><br></div><div><br></div>The Chamber welcomes Patrick Brown\, Leader of the Progressive Conservative Party of Ontario\, to address our Members in a breakfast meeting on August 25.<div><br></div><div>Mr. Brown was elected as Leader of the Ontario Progressive Conservatives on May 9 this year. His visit will be the first time he has addressed the Members of the St. Thomas &amp\; District Chamber.</div><div><br></div><div>Tickets are available now\, advance sale only\, from the Chamber office.</div><div><br></div><div>General Admission: &nbsp\;$25 plus HST per person</div><div>Chamber Members: &nbsp\;$20 plus HST per person</div><div><br></div><div>This event features a hot breakfast buffet\, remarks by our guest\, and an opportunity for questions from the floor.</div>
LOCATION:Fanshawe College
UID:e.2614.958
SEQUENCE:3
DTSTAMP:20260420T075254Z
URL:http://www.www.stthomaschamber.on.ca/events/details/postponed-meeting-the-leaders-patrick-brown-progressive-conservative-party-of-ontario-08-25-2015-958
END:VEVENT

END:VCALENDAR
