BEGIN:VCALENDAR
VERSION:2.0
PRODID:-//ChamberMaster//Event Calendar 2.0//EN
METHOD:PUBLISH
X-PUBLISHED-TTL:P3D
REFRESH-INTERVAL:P3D
CALSCALE:GREGORIAN
BEGIN:VEVENT
DTSTART:20130201T130000Z
DTEND:20130201T143000Z
X-MICROSOFT-CDO-ALLDAYEVENT:FALSE
SUMMARY:Profit From Apprenticeship
DESCRIPTION:Attention Employers!\nThe Apprenticeship Network\, in co-operation with the St. Thomas & District Chamber of Commerce\, Employment Services Elgin\, Fanshawe College and the Elgin Business Resource Centre are pleased to present a special information event for employers called "Profit From Apprenticeship" with keynote speaker Derek Michell\, a Chartered Accountant with Graham Scott Enns Chartered Accountants LLP of St. Thomas and Aylmer.\nLearn about the financial incentives and advantages of apprenticeship. \nAdvance registration is required via email to: information@theapprenticeshipnetwork.com no later than Tuesday January 29. Please note:  Doors open at 8:00 a.m.\, Program starts at 8:30 a.m. sharp!
X-ALT-DESC;FMTTYPE=text/html:<p><font size="4"><strong>Attention Employers!</strong></font></p>\n<p>The Apprenticeship Network\, in co-operation with the St. Thomas &amp\; District Chamber of Commerce\, Employment Services Elgin\, Fanshawe College and the Elgin Business Resource Centre are pleased to present a special information event for employers called "Profit From Apprenticeship" with keynote speaker Derek Michell\, a Chartered Accountant with Graham Scott Enns Chartered Accountants LLP of St. Thomas and Aylmer.</p>\n<p>Learn about the financial incentives and advantages of apprenticeship. </p>\n<p>Advance registration is required via email to: <a href="mailto:information@theapprenticeshipnetwork.com">information@theapprenticeshipnetwork.com</a> no later than Tuesday January 29. </p><p><strong>Please note:</strong>&nbsp\; Doors open at 8:00 a.m.\, Program starts at 8:30 a.m. sharp!</p><p>&nbsp\;</p>
LOCATION:Fanshawe College
UID:e.2614.877
SEQUENCE:3
DTSTAMP:20260423T203932Z
URL:http://www.www.stthomaschamber.on.ca/events/details/profit-from-apprenticeship-02-01-2013-877
END:VEVENT

END:VCALENDAR
