BEGIN:VCALENDAR
VERSION:2.0
PRODID:-//ChamberMaster//Event Calendar 2.0//EN
METHOD:PUBLISH
X-PUBLISHED-TTL:P3D
REFRESH-INTERVAL:P3D
CALSCALE:GREGORIAN
BEGIN:VEVENT
DTSTART:20120921T153000Z
DTEND:20120921T173000Z
X-MICROSOFT-CDO-ALLDAYEVENT:FALSE
SUMMARY:Profit From Apprenticeship
DESCRIPTION:The St. Thomas & District Chamber\, along with our community partners at Employment Services Elgin\, Elgin Business Resource Centre\, Fanshawe College and The Apprenticeship Network are pleased to announce we will host Ontario's Energy Minister and London West MPP Chris Bentley in a special luncheon meeting. Presentations will be made on apprenticeships\, and how local employers can benefit from hiring apprentices\, with special emphasis on technology and renewable energy.\n  \n Our location will be the cafeteria at Fanshawe College's St. Thomas campus.  Seating for this special event is limited to 60 employers.
X-ALT-DESC;FMTTYPE=text/html:The St. Thomas &amp\; District Chamber\, along with our community partners at Employment Services Elgin\, Elgin Business Resource Centre\, Fanshawe College and The Apprenticeship Network are pleased to announce we will host Ontario's Energy Minister and London West MPP Chris Bentley in a special luncheon meeting. Presentations will be made on apprenticeships\, and how local employers can benefit from hiring apprentices\, with special emphasis on technology and renewable energy.<br style="font-family: Verdana\;"> &nbsp\;<br style="font-family: Verdana\;"> Our location will be the cafeteria at Fanshawe College's St. Thomas campus.&nbsp\; Seating for this special event is limited to 60 employers.<a style="font-family: Verdana\;" href="mailto:events@stthomaschamber.on.ca"></a>
LOCATION:Fanshawe College
UID:e.2614.868
SEQUENCE:3
DTSTAMP:20260424T043643Z
URL:http://www.www.stthomaschamber.on.ca/events/details/profit-from-apprenticeship-09-21-2012-868
END:VEVENT

END:VCALENDAR
