BEGIN:VCALENDAR
VERSION:2.0
PRODID:-//ChamberMaster//Event Calendar 2.0//EN
METHOD:PUBLISH
X-PUBLISHED-TTL:P3D
REFRESH-INTERVAL:P3D
CALSCALE:GREGORIAN
BEGIN:VEVENT
DTSTART:20130206T050000Z
DTEND:20130207T050000Z
X-MICROSOFT-CDO-ALLDAYEVENT:FALSE
SUMMARY:Random Acts of Kindness Day
DESCRIPTION:2nd Annual R.A.K. Day\nThe St. Thomas & District Chamber encourages all Member-businesses and organizations\, and the thousands of people working within them\, to support the 2nd Annual St. Thomas Random Acts of Kindess Day on Wednesday February 6\, 2013.  \nDo something nice. Do something unexpected. It's our community's way of turning the first Wednesday of February into something special this year\, and every year.\nWe're not suggesting kindness should only happen one day per year. No way! Think of it like this: Kindness is having a birthday\, and this is the day we celebrate with extra-special deeds and actions.\nThe Chamber is proud to join with the R.A.K. Day organizers and dozens of community supporters and sponsors and encourages everyone to do something good and positive on this special mid-winter day.
X-ALT-DESC;FMTTYPE=text/html:<P><FONT size=6>2nd Annual R.A.K. Day</FONT></P>\n<P><FONT size=3>The St. Thomas &amp\; District Chamber encourages all Member-businesses and organizations\, and the thousands of people working within them\, to support the 2nd Annual St. Thomas Random Acts of Kindess Day on Wednesday February 6\, 2013.&nbsp\; </FONT></P>\n<P><FONT size=3>Do something nice. Do something unexpected. It's our community's way of turning the first Wednesday of February into something special this year\, and every year.</FONT></P>\n<P><FONT size=3>We're not suggesting kindness should only happen one day per year. No way! Think of it like this: Kindness is having a birthday\, and this is the day we celebrate with extra-special deeds and actions.</FONT></P>\n<P><FONT size=3>The Chamber is proud to join with the R.A.K. Day organizers and dozens of community supporters and sponsors and encourages everyone to do something good and positive on this special mid-winter day.</FONT></P>\n<P><FONT size=3></FONT>&nbsp\;</P>
LOCATION:
UID:e.2614.878
SEQUENCE:3
DTSTAMP:20260423T204054Z
URL:http://www.www.stthomaschamber.on.ca/events/details/random-acts-of-kindness-day-02-06-2013-878
END:VEVENT

END:VCALENDAR
