BEGIN:VCALENDAR
VERSION:2.0
PRODID:-//ChamberMaster//Event Calendar 2.0//EN
METHOD:PUBLISH
X-PUBLISHED-TTL:P3D
REFRESH-INTERVAL:P3D
CALSCALE:GREGORIAN
BEGIN:VEVENT
DTSTART:20140917T210000Z
DTEND:20140917T230000Z
X-MICROSOFT-CDO-ALLDAYEVENT:FALSE
SUMMARY:September Business After 5
DESCRIPTION:Reith and Associates Insurance & Financial Services marks a Century of Service as our host and sponsor of September's Business After 5.  Door prize info and other special details on this milestone event will be posted over the next few weeks. Please check back on this site for more.\nAs always\, admission to Business After 5 is free and open to everyone and anyone from any business or organization that is a Member of the St. Thomas & District Chamber of Commerce.  It's the best low-cost/no-cost way to stay in touch with your community and your business neighbours!\nAdvance registration is not required.
X-ALT-DESC;FMTTYPE=text/html:Reith and Associates Insurance &amp\; Financial Services marks a Century of Service as our host and sponsor of September's Business After 5. &nbsp\;Door prize info and other special details on this milestone event will be posted over the next few weeks. Please check back on this site for more.<div><br></div><div>As always\, admission to Business After 5 is free and open to everyone and anyone from any business or organization that is a Member of the St. Thomas &amp\; District Chamber of Commerce. &nbsp\;It's the best low-cost/no-cost way to stay in touch with your community and your business neighbours!</div><div><br></div><div>Advance registration is not required.</div>
LOCATION:St. Thomas Seniors' Centre
UID:e.2614.931
SEQUENCE:3
DTSTAMP:20260422T174035Z
URL:http://www.www.stthomaschamber.on.ca/events/details/september-business-after-5-09-17-2014-931
END:VEVENT

END:VCALENDAR
