BEGIN:VCALENDAR
VERSION:2.0
PRODID:-//ChamberMaster//Event Calendar 2.0//EN
METHOD:PUBLISH
X-PUBLISHED-TTL:P3D
REFRESH-INTERVAL:P3D
CALSCALE:GREGORIAN
BEGIN:VEVENT
DTSTART:20130925T210000Z
DTEND:20130925T230000Z
X-MICROSOFT-CDO-ALLDAYEVENT:FALSE
SUMMARY:September Business After 5
DESCRIPTION:Port Stanley Terminal Rail and Reith & Associates Insurance and Financial Services will be our hosts and sponsors for September's Business After 5 with a train trip from St. Thomas' new replica L & PS Station... and we're going to make history.\nSpecial Note:  We're FULL.  Sorry\, all train tickets have been booked & delivered. Fully-licensed food & beverage service on the train\, too. And did we mention door prizes???  Can't make the train ride? Come and explore the new train station and see our special train depart at 5:30 and/or return at 6:30 p.m.  Our good friends at Legends Tavern across the street will welcome us as well with food and beverages indoors and out while you're waiting and after we return.
X-ALT-DESC;FMTTYPE=text/html:<span style="font-size: large\;">Port Stanley Terminal Rail and Reith &amp\; Associates Insurance and Financial Services will be our hosts and sponsors for September's Business After 5 with a train trip from St. Thomas' new replica L &amp\; PS Station... and we're going to make history.</span><br><p style="font-size: 10pt\;"><font size="4"><font color="#ff0000">Special Note: &nbsp\;<b>We're FULL.</b> &nbsp\;Sorry\, all train tickets have been booked &amp\; delivered.</font>&nbsp\;</font></p><p><span style="font-size: 10pt\;">Fully-licensed food &amp\; beverage service on the train\, too. And did we mention door prizes??? &nbsp\;</span></p><p>Can't make the train ride? Come and explore the new train station and see our special train depart at 5:30 and/or return at 6:30 p.m. &nbsp\;Our good friends at Legends Tavern across the street will welcome us as well with food and beverages indoors and out while you're waiting and after we return.</p>
LOCATION:L & PS Railway Station St Thomas
UID:e.2614.902
SEQUENCE:3
DTSTAMP:20260423T105354Z
URL:http://www.www.stthomaschamber.on.ca/events/details/september-business-after-5-09-25-2013-902
END:VEVENT

END:VCALENDAR
