BEGIN:VCALENDAR
VERSION:2.0
PRODID:-//ChamberMaster//Event Calendar 2.0//EN
METHOD:PUBLISH
X-PUBLISHED-TTL:P3D
REFRESH-INTERVAL:P3D
CALSCALE:GREGORIAN
BEGIN:VEVENT
DTSTART:20120926T210000Z
DTEND:20120926T230000Z
X-MICROSOFT-CDO-ALLDAYEVENT:FALSE
SUMMARY:September Business After 5
DESCRIPTION:Join us for a back stage look at Port Stanley Festival Theatre (302 Bridge Street\, Port Stanley). Guests are invited to tour our rehearsal hall\, back stage and walk the deck (stage) while they mix & mingle!\n\nCompliment arty hors d'oeuvres\, beer and wine\, great Port Stanley prizes and of course networking at its finest. Don't miss your chance to win a pair of 2013 Season Tickets. \n\nAdmission is free and open to anyone from any business or organization this is a business or organization that is a Member of the St. Thomas & District Chamber of Commerce. No Pre-Registration Required
X-ALT-DESC;FMTTYPE=text/html:Join us for a back stage look at Port Stanley Festival Theatre (302 Bridge Street\, Port Stanley). Guests are invited to tour our rehearsal hall\, back stage and walk the deck (stage) while they mix &amp\; mingle!<br><br>Compliment arty hors d'oeuvres\, beer and wine\, great Port Stanley prizes and of course networking at its finest. Don't miss your chance to win a pair of 2013 Season Tickets. <br><br>Admission is free and open to anyone from any business or organization this is a business or organization that is a Member of the St. Thomas &amp\; District Chamber of Commerce. No Pre-Registration Required<br><br>
LOCATION:Port Stanley Festival Theatre
UID:e.2614.867
SEQUENCE:3
DTSTAMP:20260424T050157Z
URL:http://www.www.stthomaschamber.on.ca/events/details/september-business-after-5-09-26-2012-867
END:VEVENT

END:VCALENDAR
