BEGIN:VCALENDAR
VERSION:2.0
PRODID:-//ChamberMaster//Event Calendar 2.0//EN
METHOD:PUBLISH
X-PUBLISHED-TTL:P3D
REFRESH-INTERVAL:P3D
CALSCALE:GREGORIAN
BEGIN:VEVENT
DTSTART:20150930T210000Z
DTEND:20150930T230000Z
X-MICROSOFT-CDO-ALLDAYEVENT:FALSE
SUMMARY:September Business After 5 at Fanshawe College
DESCRIPTION:The Fanshawe College St. Thomas Elgin Regional Campus will be our host and sponsor for September's Business After 5.\nOur focus will be on community connections and community service. Site tours & demonstrations\, too.The Bistro and Railway City Brewery will be with us with tasty hors d'oeuvres and your favourite refreshments. Excellent door prize draws include a new iPad mini plus a variety of gift cards and certificates. \nAs always admission to Business After 5 is free and open to anyone and everyone from any business or organization that is a Member of the St. Thomas & District Chamber of Commerce. It's the best low-cost/no-cost opportunity to stay in-touch with our community and your business neighbours. \nPlease join us!
X-ALT-DESC;FMTTYPE=text/html:The Fanshawe College St. Thomas Elgin Regional Campus will be our host and sponsor for September's Business After 5.<div><br></div><div>Our focus will be on community connections and community service. Site tours &amp\; demonstrations\, too.</div><div>The Bistro and Railway City Brewery will be with us with tasty hors d'oeuvres and your favourite refreshments. Excellent door prize draws include a new iPad mini plus a variety of gift cards and certificates.&nbsp\;</div><div><br></div><div>As always admission to Business After 5 is free and open to anyone and everyone from any business or organization that is a Member of the St. Thomas &amp\; District Chamber of Commerce. It's the best low-cost/no-cost opportunity to stay in-touch with our community and your business neighbours.&nbsp\;</div><div><br></div><div>Please join us!</div><div><br></div><div><br></div><div><br></div>
LOCATION:Fanshawe College
UID:e.2614.955
SEQUENCE:3
DTSTAMP:20260420T060325Z
URL:http://www.www.stthomaschamber.on.ca/events/details/september-business-after-5-at-fanshawe-college-09-30-2015-955
END:VEVENT

END:VCALENDAR
