BEGIN:VCALENDAR
VERSION:2.0
PRODID:-//ChamberMaster//Event Calendar 2.0//EN
METHOD:PUBLISH
X-PUBLISHED-TTL:P3D
REFRESH-INTERVAL:P3D
CALSCALE:GREGORIAN
BEGIN:VEVENT
DTSTART:20130918T140000Z
DTEND:20130918T150000Z
X-MICROSOFT-CDO-ALLDAYEVENT:FALSE
SUMMARY:September Webinar - LinkedIn for Small Business
DESCRIPTION:Want your small business to thrive?  Of course you do.  Today that means using modern marketing methods\, including social media.This month\, the St. Thomas & District Chamber of Commerce launches a new series of exclusive webinars led by expert trainer\, author and facilitator Frank J. Kenny.  Attend this Chamber-sponsored training session and get your business up to speed fast on LinkedIn.Our monthly webinars will be held on the 3rd Wednesday of each month at 10:00 a.m.  There are no minimums or maximums to buy\, and there's a 50% discount for anyone from any business or organization that is a Member of the St. Thomas & District Chamber.  Regular price is $79\; Member price is just $39!All registrations are handled by our trainer at this link: http://frankjkenny.enterthemeeting.com/m/29J96VMK\nYour Member discount code for this event is "THOMAS"\nCreate business awareness\, save money\, build relationships and convert strangers into customers with this special new series from the St. Thomas & District Chamber of Commerce.
X-ALT-DESC;FMTTYPE=text/html:Want your small business to thrive? &nbsp\;Of course you do. &nbsp\;Today that means using modern marketing methods\, including social media.<div>This month\, the St. Thomas &amp\; District Chamber of Commerce launches a new series of exclusive webinars led by expert trainer\, author and facilitator Frank J. Kenny. &nbsp\;Attend this Chamber-sponsored training session and get your business up to speed fast on LinkedIn.</div><div>Our monthly webinars will be held on the 3rd Wednesday of each month at 10:00 a.m. &nbsp\;There are no minimums or maximums to buy\, and there's a 50% discount for anyone from any business or organization that is a Member of the St. Thomas &amp\; District Chamber. &nbsp\;Regular price is $79\; Member price is just $39!</div><div>All registrations are handled by our trainer at this link:&nbsp\;</div><div><a href="http://frankjkenny.enterthemeeting.com/m/29J96VMK" target="_blank">http://frankjkenny.enterthemeeting.com/m/29J96VMK</a></div><div><br></div><div>Your Member discount code for this event is "THOMAS"</div><div><br></div><div>Create business awareness\, save money\, build relationships and convert strangers into customers with this special new series from the St. Thomas &amp\; District Chamber of Commerce.</div><div><br></div>
LOCATION:
UID:e.2614.903
SEQUENCE:3
DTSTAMP:20260423T105358Z
URL:http://www.www.stthomaschamber.on.ca/events/details/september-webinar-linkedin-for-small-business-09-18-2013-903
END:VEVENT

END:VCALENDAR
