BEGIN:VCALENDAR
VERSION:2.0
PRODID:-//ChamberMaster//Event Calendar 2.0//EN
METHOD:PUBLISH
X-PUBLISHED-TTL:P3D
REFRESH-INTERVAL:P3D
CALSCALE:GREGORIAN
BEGIN:VEVENT
DTSTART:20101020T200000Z
DTEND:20101020T200000Z
X-MICROSOFT-CDO-ALLDAYEVENT:FALSE
SUMMARY:Small Business Sample Show
DESCRIPTION:
X-ALT-DESC;FMTTYPE=text/html:
LOCATION:
UID:e.2614.55
SEQUENCE:3
DTSTAMP:20260425T185426Z
URL:http://www.www.stthomaschamber.on.ca/events/details/small-business-sample-show-10-20-2010-55
END:VEVENT

END:VCALENDAR
