BEGIN:VCALENDAR
VERSION:2.0
PRODID:-//ChamberMaster//Event Calendar 2.0//EN
METHOD:PUBLISH
X-PUBLISHED-TTL:P3D
REFRESH-INTERVAL:P3D
CALSCALE:GREGORIAN
BEGIN:VEVENT
DTSTART:20140225T140000Z
DTEND:20140225T203000Z
X-MICROSOFT-CDO-ALLDAYEVENT:FALSE
SUMMARY:Social Media Strategies for Small Business
DESCRIPTION:Success is a great teacher\, so we've designed a full-day session using the computer labs at Fanshawe College to give our Members a chance to learn from the successes and experiences of local experts.\nAdvance registration is required.  Maximum 40 participants\, to allow everyone hands-on access to individual computers in the lab.  $25 per person (plus HST) with lunch included. \n\nOur panel will guide participants through the process of creating a social media site\, drawing more traffic to your site\, creating & sharing relevant content and defining the "time vs reward" ratio. \n\nPanel presentations by:Dr. Danielle Marr\, Chiropractor & owner\, Dr. Marr Pain Relief Clinic - (Twitter)\nBryan Bakker\, owner\, BizBio TV - (YouTube)Andrew Buttigieg\, Morning News Anchor/Reporter\, myFM 94.1 - (Facebook)\nGinette Minor\, Owner\, Alexelle Slipcovers & Decor - (LinkedIn)\n\nEvent Agenda:9:00 a.m.- 9:30 a.m. - Registration\, Introductions\n\n9:30 a.m. -10:30 a.m. - Twitter for Small Business 10:30 a.m. - Break\n\n10:45 a.m. - 11:45 a.m. - YouTube for Small Business\n\n11:45 a.m. - 12:45 p.m. - Lunch \n\n12:45 p.m. - 1:45 p.m. - Facebook for Small Business\n\n1:45 p.m. - Break\n\n2:00 p.m. - 3:00 p.m. - LinkedIn for Small Business\n\n3:00 p.m. - 3:30 p.m. - Q & A & closing\nCall the Chamber of Commerce office for details and registration:  519-631-1981
X-ALT-DESC;FMTTYPE=text/html:Success is a great teacher\, so we've designed a full-day session using the computer labs at Fanshawe College to give our Members a chance to learn from the successes and experiences of local experts.<div><br>Advance registration is required. &nbsp\;Maximum 40 participants\, to allow everyone hands-on access to individual computers in the lab. &nbsp\;$25 per person (plus HST) with lunch included. <br><br>Our panel will guide participants through the process of creating a social media site\, drawing more traffic to your site\, creating &amp\; sharing relevant content and defining the "time vs reward" ratio. <br></div><div><br></div><div>Panel presentations by:</div><div><b>Dr. Danielle Marr</b>\, Chiropractor &amp\; owner\, Dr. Marr Pain Relief Clinic - (Twitter)<br></div><div><b>Bryan Bakker</b>\, owner\, BizBio TV - (YouTube)</div><div><b>Andrew Buttigieg</b>\, Morning News Anchor/Reporter\, myFM 94.1 - (Facebook)<br></div><div><b>Ginette Minor</b>\, Owner\, Alexelle Slipcovers &amp\; Decor - (LinkedIn)<br></div><div><p><b><br></b></p><p><b>Event Agenda:</b></p><p><span style="font-size: 10pt\;">9:00&nbsp\;</span><span style="font-size: 10pt\;">a.m.-&nbsp\;</span><span style="font-size: 10pt\;">9:30 a.m. - Registration\, Introductions</span></p>\n\n<p>9:30 a.m. -10:30 a.m. - <b>Twitter for Small Business</b><span style="font-size: 10pt\;">&nbsp\;</span></p><p><span style="font-size: 10pt\;">10:30 a.m. - <i>Break</i></span></p>\n\n<p>10:45 a.m. - 11:45 a.m. - <b>YouTube for Small Business</b></p>\n\n<p>11:45 a.m. - 12:45 p.m. - <i>Lunch </i></p>\n\n<p>12:45 p.m. - 1:45 p.m. - <b>Facebook for Small Business</b></p>\n\n<p>1:45 p.m. - <i>Break</i></p>\n\n<p>2:00 p.m. - 3:00 p.m. - <b>LinkedIn for Small Business</b></p>\n\n<p>3:00 p.m. - 3:30 p.m. - Q &amp\; A &amp\; closing</p></div><div><br></div><div>Call the Chamber of Commerce office for details and registration: &nbsp\;519-631-1981</div>
LOCATION:Fanshawe College
UID:e.2614.916
SEQUENCE:3
DTSTAMP:20260423T033834Z
URL:http://www.www.stthomaschamber.on.ca/events/details/social-media-strategies-for-small-business-02-25-2014-916
END:VEVENT

END:VCALENDAR
