BEGIN:VCALENDAR
VERSION:2.0
PRODID:-//ChamberMaster//Event Calendar 2.0//EN
METHOD:PUBLISH
X-PUBLISHED-TTL:P3D
REFRESH-INTERVAL:P3D
CALSCALE:GREGORIAN
BEGIN:VEVENT
DTSTART:20140611T190000Z
DTEND:20140611T230000Z
X-MICROSOFT-CDO-ALLDAYEVENT:FALSE
SUMMARY:Southwest Business Expo - Our Tri-County Business Show / June Business After 5
DESCRIPTION:The biggest Business Show in our history is coming!  It's the Southwest Business Expo!\nIt's a business showcase for Elgin\, Middlesex and Oxford counties on Wednesday June 11 at Western Fair District in London. And this event does double-duty as the Chamber's June edition of Business After 5.\nThe Chambers of Commerce in St. Thomas\, London\, Strathroy\, Ingersoll and Tillsonburg join to present a joint consumer and business showcase and expo like no other.  Displays\, exhibits\, prizes\, samples and more.\nBooth registration is open now. Single 10' by 10' spaces are $275 for Members of any of the host Chambers\; $365 for all others.  Booth prices are all-inclusive with table\, draping and electricity.\nAll registration is handled by the London Chamber staff\, and can be completed online.Just click here. Mark the date now.  Plan to go and/or plan to be in the show!
X-ALT-DESC;FMTTYPE=text/html:<font style="font-family: sans-serif\;" face="Verdana"><i><b>The biggest Business Show in our history is coming! &nbsp\;It's the Southwest Business Expo!</b></i></font><div style="font-family: sans-serif\;"><font face="Verdana"><br></font></div><div><font style="font-family: sans-serif\;" face="Verdana">It's a business showcase for Elgin\, Middlesex and Oxford counties on Wednesday June 11 at Western Fair District in London. And this event does double-duty as the Chamber's June edition of <i>Business After 5</i>.</font><div style="font-family: sans-serif\;"><font face="Verdana"><br></font></div><div style="font-family: sans-serif\;"><font face="Verdana">The Chambers of Commerce in St. Thomas\, London\, Strathroy\, Ingersoll and Tillsonburg join to present a joint consumer and business showcase and expo like no other. &nbsp\;Displays\, exhibits\, prizes\, samples and more.</font></div><div style="font-family: sans-serif\;"><font face="Verdana"><br></font></div><div style="font-family: sans-serif\;"><font face="Verdana">Booth registration is open now. Single 10' by 10' spaces are $275 for Members of any of the host Chambers\; $365 for all others. &nbsp\;Booth prices are all-inclusive with table\, draping and electricity.</font></div><div style="font-family: sans-serif\;"><font face="Verdana"><br></font></div><div><font face="Verdana">All registration is handled by the London Chamber staff\, and can be completed online.</font></div><div><font face="Verdana">Just <a href="http://www.londonchamber.com/events/#id=701&amp\;wid=1301&amp\;cid=228" target="_blank"><b>click here</b></a>.</font></div><div style="font-family: sans-serif\;"><font face="Verdana">&nbsp\;</font></div><div style="font-family: sans-serif\;"><i style="font-family: Verdana\; font-size: 10pt\;">Mark the date now. &nbsp\;Plan to go and/or plan to be in the show!</i></div></div>
LOCATION:Progress Building\, Western Fair District
UID:e.2614.921
SEQUENCE:3
DTSTAMP:20260422T215327Z
URL:http://www.www.stthomaschamber.on.ca/events/details/southwest-business-expo-our-tri-county-business-show-june-business-after-5-06-11-2014-921
END:VEVENT

END:VCALENDAR
