BEGIN:VCALENDAR
VERSION:2.0
PRODID:-//ChamberMaster//Event Calendar 2.0//EN
METHOD:PUBLISH
X-PUBLISHED-TTL:P3D
REFRESH-INTERVAL:P3D
CALSCALE:GREGORIAN
BEGIN:VEVENT
DTSTART:20141024T230000Z
DTEND:20141025T020000Z
X-MICROSOFT-CDO-ALLDAYEVENT:FALSE
SUMMARY:St. Thomas Spirit Awards
DESCRIPTION:The St. Thomas & District Chamber of Commerce is proud to join with myFM 94.1 and a growing number of community sponsors to present the 3rd annual Spirit of St. Thomas Awards.\n\nTonight's the night.  The voting is done and the hardware will be handed out in the presentation event\, 7:00 p.m. to 10 p.m. in the new Masonic Centre (corner of Sunset Drive and Fruit Ridge Line\, south of St. Thomas).\nAdmission is free and open to everyone.
X-ALT-DESC;FMTTYPE=text/html:<span style="font-family: Arial\; font-size: 14px\; color: rgb(80\, 80\, 80)\;">The St. Thomas &amp\; District Chamber of Commerce is proud to join with myFM 94.1 and a growing number of community sponsors to present the 3rd annual Spirit of St. Thomas Awards.</span><br style="color: rgb(80\, 80\, 80)\; font-family: Arial\; font-size: 14px\;"><br><div><font color="#505050" face="Arial"><span style="font-size: 14px\;">Tonight's the night. &nbsp\;The voting is done and the hardware will be handed out in the presentation event\, 7:00 p.m. to 10 p.m. in the new Masonic Centre (corner of Sunset Drive and Fruit Ridge Line\, south of St. Thomas).</span></font></div><div><font color="#505050" face="Arial"><span style="font-size: 14px\;"><br></span></font></div><div><font color="#505050" face="Arial"><span style="font-size: 14px\;">Admission is free and open to everyone.</span></font></div>
LOCATION:Masonic Centre of Elgin
UID:e.2614.937
SEQUENCE:3
DTSTAMP:20260422T161240Z
URL:http://www.www.stthomaschamber.on.ca/events/details/st-thomas-spirit-awards-10-24-2014-937
END:VEVENT

END:VCALENDAR
