BEGIN:VCALENDAR
VERSION:2.0
PRODID:-//ChamberMaster//Event Calendar 2.0//EN
METHOD:PUBLISH
X-PUBLISHED-TTL:P3D
REFRESH-INTERVAL:P3D
CALSCALE:GREGORIAN
BEGIN:VEVENT
DTSTART:20150715T230000Z
DTEND:20150716T020000Z
X-MICROSOFT-CDO-ALLDAYEVENT:FALSE
SUMMARY:St. Thomas Uncapped 2015
DESCRIPTION:It's New!It's all about craft beer and barbecue as the Chamber proudly unwraps a new event modeled\, in part\, after our highly successful annual wine tasting event called St. Thomas Uncorked.  Uncorked has been a sell-out every year since we launched it and we fully expect to do it again in January 2016.\nOur new event is called St. Thomas Uncapped and it's also a sampling event featuring smoky\, tasty and yummy things from the grill and smoker along with other fine beer-friendly foods like giant\, hot pretzels!\nBeer sampling will be courtesy of five local and regional craft breweries including\, of course\, St. Thomas' own Railway City Brewing Company.  \nOur location will be nothing short of fantastic... the beautiful 3\,000 square-foot showroom at GCW Custom Kitchens and Cabinetry.\nSAVE THE DATE! Ticket sales will launch next week but the Chamber staff can accept reservations from Members now.  $40 per person + tax.  Check this event post and/or the Chamber's weekly Green Mail newsletter for updates\, or call the Chamber office at 519-631-1981.
X-ALT-DESC;FMTTYPE=text/html:It's New!<div>It's all about craft beer and barbecue as the Chamber proudly unwraps a new event modeled\, in part\, after our highly successful annual wine tasting event called St. Thomas Uncorked. &nbsp\;Uncorked has been a sell-out every year since we launched it and we fully expect to do it again in January 2016.</div><div><br></div><div>Our new event is called St. Thomas Uncapped and it's also a sampling event featuring smoky\, tasty and yummy things from the grill and smoker along with other fine beer-friendly foods like giant\, hot pretzels!</div><div><br></div><div>Beer sampling will be courtesy of five local and regional craft breweries including\, of course\, St. Thomas' own Railway City Brewing Company. &nbsp\;</div><div><br></div><div>Our location will be nothing short of fantastic... the beautiful 3\,000 square-foot showroom at GCW Custom Kitchens and Cabinetry.</div><div><br></div><div><b>SAVE THE DATE! </b>Ticket sales will launch next week but the Chamber staff can accept reservations from Members now. &nbsp\;$40 per person + tax. &nbsp\;Check this event post and/or the Chamber's weekly Green Mail newsletter for updates\, or call the Chamber office at 519-631-1981.</div>
LOCATION:GCW Custom Kitchens & Cabinetry Inc.
UID:e.2614.957
SEQUENCE:3
DTSTAMP:20260422T093334Z
URL:http://www.www.stthomaschamber.on.ca/events/details/st-thomas-uncapped-2015-07-15-2015-957
END:VEVENT

END:VCALENDAR
