BEGIN:VCALENDAR
VERSION:2.0
PRODID:-//ChamberMaster//Event Calendar 2.0//EN
METHOD:PUBLISH
X-PUBLISHED-TTL:P3D
REFRESH-INTERVAL:P3D
CALSCALE:GREGORIAN
BEGIN:VEVENT
DTSTART:20140126T000000Z
DTEND:20140126T030000Z
X-MICROSOFT-CDO-ALLDAYEVENT:FALSE
SUMMARY:St. Thomas Uncorked 2014
DESCRIPTION:It's a BIG night with BIG wines!!\nDon't miss the Chamber's 2nd "St. Thomas Uncorked" event.  Despite the weather\, it's a go.  Staff and volunteers have been working in preparation at the Art Centre since noon.If you have tickets\, doors open at 6:45 p.m.Sorry\, no ticket sales at the door.This event is completely SOLD-OUT\,
X-ALT-DESC;FMTTYPE=text/html:<font color="#ff0000" face="Tahoma" size="5">It's a BIG night with BIG wines!!</font><div><font color="#ff0000" face="Tahoma"><br></font></div><div><font face="Tahoma" size="4">Don't miss the Chamber's 2nd "St. Thomas Uncorked" event. &nbsp\;Despite the weather\, it's a go. &nbsp\;Staff and volunteers have been working in preparation at the Art Centre since noon.</font></div><div><font face="Tahoma" size="4">If you have tickets\, doors open at 6:45 p.m.</font></div><div><font face="Tahoma" size="4">Sorry\, no ticket sales at the door.</font></div><div><font face="Tahoma" size="4">This event is completely SOLD-OUT\,</font></div><div><span style="font-family: Tahoma\;"><br></span></div><div><br></div>
LOCATION:St. Thomas-Elgin Public Art Centre
UID:e.2614.912
SEQUENCE:3
DTSTAMP:20260423T051013Z
URL:http://www.www.stthomaschamber.on.ca/events/details/st-thomas-uncorked-2014-01-25-2014-912
END:VEVENT

END:VCALENDAR
