BEGIN:VCALENDAR
VERSION:2.0
PRODID:-//ChamberMaster//Event Calendar 2.0//EN
METHOD:PUBLISH
X-PUBLISHED-TTL:P3D
REFRESH-INTERVAL:P3D
CALSCALE:GREGORIAN
BEGIN:VEVENT
DTSTART:20160124T000000Z
DTEND:20160124T030000Z
X-MICROSOFT-CDO-ALLDAYEVENT:FALSE
SUMMARY:St. Thomas Uncorked 2016
DESCRIPTION:It's a guided tour of wines from around the world.\nOur fourth annual St. Thomas Uncorked returns to the St. Thomas Elgin Public Art Centre.\nUPDATE December 3:  SORRY - UNCORKED IS SOLD-OUT.A waiting list has been established. In the event that we hear from buyers with changes in their plans or tickets required\, we will connect them with people registered on our waiting list.  First come/first served. Contact Warren Allen at the Chamber office to register on the list. 519-631-1981 Extension 526\nSt. Thomas Uncorked - now a sell-out for the fourth consecutive year thanks to great support from our Members!
X-ALT-DESC;FMTTYPE=text/html:<span style="font-size: 10pt\;">It's a guided tour of wines from around the world.</span><div style="font-size: 10pt\;"><br></div><div style="font-size: 10pt\;">Our fourth annual St. Thomas Uncorked returns to the St. Thomas Elgin Public Art Centre.</div><div style="font-size: 10pt\;"><br></div><div><font color="#ff0000"><b>UPDATE December 3: &nbsp\;SORRY - UNCORKED IS SOLD-OUT.</b></font></div><div style="font-size: 10pt\;">A waiting list has been established. In the event that we hear from buyers with changes in their plans or tickets required\, we will connect them with people registered on our waiting list. &nbsp\;First come/first served. Contact Warren Allen at the Chamber office to register on the list. 519-631-1981 Extension 526</div><div style="font-size: 10pt\;"><br></div><div style="font-size: 10pt\;">St. Thomas Uncorked - now a sell-out for the fourth consecutive year thanks to great support from our Members!</div><div style="font-size: 10pt\;"><br></div>
LOCATION:St. Thomas-Elgin Public Art Centre
UID:e.2614.965
SEQUENCE:3
DTSTAMP:20260419T231720Z
URL:http://www.www.stthomaschamber.on.ca/events/details/st-thomas-uncorked-2016-01-23-2016-965
END:VEVENT

END:VCALENDAR
