BEGIN:VCALENDAR
VERSION:2.0
PRODID:-//ChamberMaster//Event Calendar 2.0//EN
METHOD:PUBLISH
X-PUBLISHED-TTL:P3D
REFRESH-INTERVAL:P3D
CALSCALE:GREGORIAN
BEGIN:VEVENT
DTSTART:20140219T163000Z
DTEND:20140219T183000Z
X-MICROSOFT-CDO-ALLDAYEVENT:FALSE
SUMMARY:State of the Municipalities Luncheon 2014
DESCRIPTION:What's it take to be a Mayor?  What keeps a Mayor up at night? What's happening to support local business and job creation?  What question would you like to ask?  You'll have your chance next week.\nThe St. Thomas & District Chamber of Commerce is pleased to host our 4th annual "State of the Municipalities" luncheon next Wednesday\, February 19\, with presentations by all 3 St. Thomas & District Mayors at St. Anne's Centre in St. Thomas.\nAdvance sale only. Tickets can be ordered now from the Chamber office by calling us at 519-631-1981.  $30 per person + HST.  Ticket sales close at 3:00 p.m. this Friday\, Feb 14\, to allow us to confirm catering details.\n\nThe Mayors each get up to 10 minutes for individual remarks\, followed questions from the floor and the Chamber. \n2014 is a municipal election year and we're looking forward learning more about our local leaders' plans going forward.  Please join us!
X-ALT-DESC;FMTTYPE=text/html:<div>What's it take to be a Mayor? &nbsp\;What keeps a Mayor up at night? What's happening to support local business and job creation? &nbsp\;What question would you like to ask? &nbsp\;You'll have your chance next week.</div><div><br></div>The St. Thomas &amp\; District Chamber of Commerce is pleased to host our 4th annual "State of the Municipalities" luncheon next Wednesday\, February 19\, with presentations by all 3 St. Thomas &amp\; District Mayors at St. Anne's Centre in St. Thomas.<div><br></div><div>Advance sale only. Tickets can be ordered now from the Chamber office by calling us at 519-631-1981. &nbsp\;$30 per person + HST. &nbsp\;<b>Ticket sales close at 3:00 p.m. this Friday\, Feb 14\,</b> to allow us to confirm catering details.<br><div><br></div><div>The Mayors each get up to 10 minutes for individual remarks\, followed questions from the floor and the Chamber.&nbsp\;</div><div><br></div><div>2014 is a municipal election year and we're looking forward learning more about our local leaders' plans going forward. &nbsp\;Please join us!</div><div><br></div><div><br></div><div><br></div></div>
LOCATION:St. Anne's Centre
UID:e.2614.913
SEQUENCE:3
DTSTAMP:20260423T033807Z
URL:http://www.www.stthomaschamber.on.ca/events/details/state-of-the-municipalities-luncheon-2014-02-19-2014-913
END:VEVENT

END:VCALENDAR
