BEGIN:VCALENDAR
VERSION:2.0
PRODID:-//ChamberMaster//Event Calendar 2.0//EN
METHOD:PUBLISH
X-PUBLISHED-TTL:P3D
REFRESH-INTERVAL:P3D
CALSCALE:GREGORIAN
BEGIN:VEVENT
DTSTART:20130630T150000Z
DTEND:20130630T153000Z
X-MICROSOFT-CDO-ALLDAYEVENT:FALSE
SUMMARY:TEST
DESCRIPTION:TESTING
X-ALT-DESC;FMTTYPE=text/html:TESTING
LOCATION:
UID:e.2614.900
SEQUENCE:3
DTSTAMP:20260423T145440Z
URL:http://www.www.stthomaschamber.on.ca/events/details/test-06-30-2013-900
END:VEVENT

END:VCALENDAR
